BEGIN:VCALENDAR
VERSION:2.0
PRODID:-//ChamberMaster//Event Calendar 2.0//EN
METHOD:PUBLISH
X-PUBLISHED-TTL:P3D
REFRESH-INTERVAL:P3D
CALSCALE:GREGORIAN
BEGIN:VEVENT
DTSTART:20210728T210000Z
DTEND:20210728T230000Z
X-MICROSOFT-CDO-ALLDAYEVENT:FALSE
SUMMARY:Business After Hours at Seek-No-Further Cidery
DESCRIPTION:Come mix and mingle with your fellow Chamber members at the hottest new spot in the village. We will gather at the trendy Seek-No-Further Cidery to sample their delicious selection of beverages\, nibble on bites from Black Radish Creamery\, and catch up with members old and new in a laidback and casual setting.
X-ALT-DESC;FMTTYPE=text/html:Come mix and mingle with your fellow Chamber members at the hottest new spot in the village. We will gather at the trendy Seek-No-Further Cidery to sample their delicious selection of beverages\, nibble on bites from Black Radish Creamery\, and catch up with members old and new in a laidback and casual setting.<br />\n&nbsp\;
LOCATION:Seek-No-Further Cidery 126 E Elm St Granville\, Ohio
UID:e.180.16030
SEQUENCE:3
DTSTAMP:20260421T163438Z
URL:https://business.granvilleoh.com/events/details/business-after-hours-at-seek-no-further-cidery-16030
END:VEVENT

END:VCALENDAR
