BEGIN:VCALENDAR
VERSION:2.0
PRODID:-//ChamberMaster//Event Calendar 2.0//EN
METHOD:PUBLISH
X-PUBLISHED-TTL:P3D
REFRESH-INTERVAL:P3D
CALSCALE:GREGORIAN
BEGIN:VEVENT
DTSTART:20211027T210000Z
DTEND:20211027T230000Z
X-MICROSOFT-CDO-ALLDAYEVENT:FALSE
SUMMARY:Business After Hours at the Granville Inn
DESCRIPTION:Join us for our October Business After Hours Networking Gathering!  This time we will rendezvous in the Carriage House space at the Historic Granville Inn for lively interaction\, informal networking\, and tasty hors d'oeuvres courtesy of our host.  Come meet and mingle with your fellow Chamber members and colleagues. A cash bar will also be available.
X-ALT-DESC;FMTTYPE=text/html:Join us for our October Business After Hours Networking Gathering! &nbsp\;This time we will rendezvous in the Carriage House space at the Historic Granville Inn for lively interaction\, informal networking\, and tasty hors d&#39\;oeuvres courtesy of our host. &nbsp\;Come meet and mingle with your fellow Chamber members and colleagues. A cash bar will also be available.<br />\n&nbsp\;
LOCATION:Granville Inn Carriage House 314 East Broadway Granville\, OH 43023
UID:e.180.16101
SEQUENCE:3
DTSTAMP:20260421T125936Z
URL:https://business.granvilleoh.com/events/details/business-after-hours-at-the-granville-inn-16101
END:VEVENT

END:VCALENDAR
