BEGIN:VCALENDAR
VERSION:2.0
PRODID:-//ChamberMaster//Event Calendar 2.0//EN
METHOD:PUBLISH
X-PUBLISHED-TTL:P3D
REFRESH-INTERVAL:P3D
CALSCALE:GREGORIAN
BEGIN:VEVENT
DTSTART:20210825T210000Z
DTEND:20210825T230000Z
X-MICROSOFT-CDO-ALLDAYEVENT:FALSE
SUMMARY:Business After Hours! Cherry Valley Hotel presents Homestead Public House
DESCRIPTION:Come mix and mingle with your fellow Chamber members! Homestead Beer Co. is thrilled to announce the opening of a new food and\n\nbeverage experience at the recently renovated Cherry Valley Hotel. Chamber members will receive a sneak peek of the space before they officially open the following week.\n\n\n\n"It's an incredible chance to offer more to our customers\," said Joe Wilson\, CEO of Homestead Beer Co. "We love Licking County and can't wait to broaden the horizon right in our backyard."\n\n\n\n\n\nWhat we look forward to with the opening of the Homestead Public House:\n\n\n\nHomestead will offer a full slate of programming - from trivia nights\, exclusive tastings\, open mic and karaoke nights\, along with private events\n\nin the 2\,200 square foot Barrel Room. Their central mission is to become a community gathering location that will welcome guests from all areas of the country and right down the road.
X-ALT-DESC;FMTTYPE=text/html:Come mix and mingle with your fellow Chamber members!&nbsp\;Homestead Beer Co. is thrilled to announce the opening of a new food and<br />\nbeverage experience at the recently renovated Cherry Valley Hotel. Chamber members will receive a sneak peek of the space before they officially open the following week.<br />\n<br />\n&quot\;It&#39\;s an incredible chance to offer more to our customers\,&quot\; said Joe Wilson\, CEO of Homestead Beer Co. &quot\;We love Licking County and can&#39\;t wait to broaden the horizon right in our backyard.&quot\;<br />\n<br />\n<br />\n<strong>What we look forward to with the opening of the&nbsp\;Homestead Public House:</strong><br />\n<br />\nHomestead will offer a full slate of programming - from trivia nights\, exclusive tastings\, open mic and karaoke nights\, along with private events<br />\nin the 2\,200 square foot Barrel Room. Their central mission is to become a community gathering location that will welcome guests from all areas of the country and right down the road.
LOCATION:Cherry Valley Hotel (Homestead Public House) 2299 Cherry Valley Rd SE Newark\, Ohio 43055
UID:e.180.16044
SEQUENCE:3
DTSTAMP:20260421T153312Z
URL:https://business.granvilleoh.com/events/details/business-after-hours-cherry-valley-hotel-presents-homestead-public-house-16044
END:VEVENT

END:VCALENDAR
