BEGIN:VCALENDAR
VERSION:2.0
PRODID:-//ChamberMaster//Event Calendar 2.0//EN
METHOD:PUBLISH
X-PUBLISHED-TTL:P3D
REFRESH-INTERVAL:P3D
CALSCALE:GREGORIAN
BEGIN:VEVENT
DTSTART:20210929T210000Z
DTEND:20210929T230000Z
X-MICROSOFT-CDO-ALLDAYEVENT:FALSE
SUMMARY:Business After Hours! Three Oaks Vineyard
DESCRIPTION:Join us for a casual Business After Hours Networking gathering at nearby Three Oaks Vineyard!  If you have not yet had the opportunity to visit this charming local vineyard and winery this is your chance - you won't be disappointed.  And\, you'll have the opportunity to meet and socialize with your fellow Chamber members and their guests.  Join us for a relaxing glass of wine on the patio to enjoy an evening of live music.\n\n\n\nLocation:     \n\nThree Oaks Vineyard is six miles north of Granville...an intimate setting in rural McKean Township.  They are a vineyard and winery that takes pride in crafting wines from vine to glass.
X-ALT-DESC;FMTTYPE=text/html:Join us for a casual Business After Hours Networking gathering at nearby Three Oaks Vineyard! &nbsp\;If you have not yet had the opportunity to visit this charming local vineyard and winery this is your chance - you won&#39\;t be disappointed. &nbsp\;And\, you&#39\;ll have the opportunity to meet and socialize with your fellow Chamber members and their guests. &nbsp\;Join us for a relaxing glass of wine on the patio to enjoy an evening of live music.<br />\n<br />\n<strong>Location: &nbsp\;&nbsp\; &nbsp\;</strong><br />\nThree Oaks Vineyard is six miles north of Granville...an intimate setting in rural McKean Township. &nbsp\;They are a vineyard and winery that takes pride in crafting wines from vine to glass.&nbsp\;
LOCATION:Three Oaks Vineyard 1591 Crosley Rd Granville\, Ohio 43023
UID:e.180.16083
SEQUENCE:3
DTSTAMP:20260421T140201Z
URL:https://business.granvilleoh.com/events/details/business-after-hours-three-oaks-vineyard-16083
END:VEVENT

END:VCALENDAR
