BEGIN:VCALENDAR
VERSION:2.0
PRODID:-//ChamberMaster//Event Calendar 2.0//EN
METHOD:PUBLISH
X-PUBLISHED-TTL:P3D
REFRESH-INTERVAL:P3D
CALSCALE:GREGORIAN
BEGIN:VEVENT
DTSTART:20200627T230000Z
DTEND:20200628T000000Z
X-MICROSOFT-CDO-ALLDAYEVENT:FALSE
SUMMARY:Camp-In with Storyteller Lyn Ford
DESCRIPTION:Pitch a blanket fort at home before the program begins and then gather the family around for stories by Lyn Ford and campfire songs. Zoom Register to receive login the day of the program. Families with Children of All Ages
X-ALT-DESC;FMTTYPE=text/html:Pitch a blanket fort at home before the program begins and then gather the family around for stories by Lyn Ford and campfire songs. Zoom&mdash\;Register to receive login the day of the program. Families with Children of All Ages
LOCATION:Granville Public Library
UID:e.180.14545
SEQUENCE:3
DTSTAMP:20260422T102250Z
URL:https://business.granvilleoh.com/events/details/camp-in-with-storyteller-lyn-ford-14545
END:VEVENT

END:VCALENDAR
