BEGIN:VCALENDAR
VERSION:2.0
PRODID:-//ChamberMaster//Event Calendar 2.0//EN
METHOD:PUBLISH
X-PUBLISHED-TTL:P3D
REFRESH-INTERVAL:P3D
CALSCALE:GREGORIAN
BEGIN:VEVENT
DTSTART:20200731T180000Z
DTEND:20200731T190000Z
X-MICROSOFT-CDO-ALLDAYEVENT:FALSE
SUMMARY:Camp NanNoWriMo Share Your Story (grades 3-6)
DESCRIPTION:Meet up with fellow writers to celebrate the completion of your writing project. Register at GranvilleLibrary.org/calendar/month to receive a link to the zoom meeting on the day of the program.
X-ALT-DESC;FMTTYPE=text/html:Meet up with fellow writers to celebrate the completion of your writing project. Register at GranvilleLibrary.org/calendar/month to receive a link to the zoom meeting on the day of the program.
LOCATION:Granville Public Library
UID:e.180.14566
SEQUENCE:3
DTSTAMP:20260422T091200Z
URL:https://business.granvilleoh.com/events/details/camp-nannowrimo-share-your-story-grades-3-6-14566
END:VEVENT

END:VCALENDAR
