BEGIN:VCALENDAR
VERSION:2.0
PRODID:-//ChamberMaster//Event Calendar 2.0//EN
METHOD:PUBLISH
X-PUBLISHED-TTL:P3D
REFRESH-INTERVAL:P3D
CALSCALE:GREGORIAN
BEGIN:VEVENT
DTSTART:20200727T203000Z
DTEND:20200727T210000Z
X-MICROSOFT-CDO-ALLDAYEVENT:FALSE
SUMMARY:Camp NanNoWriMo with Thurber House (grades 3-6)
DESCRIPTION:Thurber House will provide writing prompts to inspire you to continue yours creative writing project. Register at GranvilleLibrary.org/calendar/month to receive a link to the zoom meeting.
X-ALT-DESC;FMTTYPE=text/html:Thurber House will provide writing prompts to inspire you to continue yours creative writing project. Register at GranvilleLibrary.org/calendar/month to receive a link to the zoom meeting.
LOCATION:Granville Public Library
UID:e.180.14565
SEQUENCE:3
DTSTAMP:20260422T101500Z
URL:https://business.granvilleoh.com/events/details/camp-nannowrimo-with-thurber-house-grades-3-6-14565
END:VEVENT

END:VCALENDAR
