BEGIN:VCALENDAR
VERSION:2.0
PRODID:-//ChamberMaster//Event Calendar 2.0//EN
METHOD:PUBLISH
X-PUBLISHED-TTL:P3D
REFRESH-INTERVAL:P3D
CALSCALE:GREGORIAN
BEGIN:VEVENT
DTSTART:20200629T203000Z
DTEND:20200629T210000Z
X-MICROSOFT-CDO-ALLDAYEVENT:FALSE
SUMMARY:Camp NaNoWriMo- Month-Long Writing Adventure
DESCRIPTION:July 1 to July 31-Rising Grades 3 to 6 Email bwernert@granvillelibrary.org for the CampNaNoWriMo classroom code. Share a month-long adventure with other young writers while completing a personal creative writing project. Thurber House Prompt Online access to this video available June 29 through July 31. Email bwernert@granvillelibrary.org for private YouTube link. Not sure what you want to write about this month? Thurber House will help inspire you! Thurber House Monday\, July 13 & July 27\, 4:30-5pm Zoom: Register to receive login the day of the program. In these two live programs\, Thurber House will provide creative writing prompts to inspire you as you continue your creative writing project. Share Your Story July 31\, 2-3pm Zoom: Register to receive login the day of the program. Meet up with fellow writers to celebrate completion of your writing project.
X-ALT-DESC;FMTTYPE=text/html:July 1 to July 31-Rising Grades 3 to 6 Email bwernert@granvillelibrary.org for the CampNaNoWriMo classroom code. Share a month-long adventure with other young writers while completing a personal creative writing project. Thurber House Prompt Online access to this video available June 29 through July 31. Email bwernert@granvillelibrary.org for private YouTube link. Not sure what you want to write about this month? Thurber House will help inspire you! Thurber House Monday\, July 13 &amp\; July 27\, 4:30-5pm Zoom: Register to receive login the day of the program. In these two live programs\, Thurber House will provide creative writing prompts to inspire you as you continue your creative writing project. Share Your Story July 31\, 2-3pm Zoom: Register to receive login the day of the program. Meet up with fellow writers to celebrate completion of your writing project.
LOCATION:Granville Public Library via Zoom
UID:e.180.14552
SEQUENCE:3
DTSTAMP:20260422T102333Z
URL:https://business.granvilleoh.com/events/details/camp-nanowrimo-month-long-writing-adventure-14552
END:VEVENT

END:VCALENDAR
