BEGIN:VCALENDAR
VERSION:2.0
PRODID:-//ChamberMaster//Event Calendar 2.0//EN
METHOD:PUBLISH
X-PUBLISHED-TTL:P3D
REFRESH-INTERVAL:P3D
CALSCALE:GREGORIAN
BEGIN:VEVENT
DTSTART;VALUE=DATE:20200906
DTEND;VALUE=DATE:20200907
TRANSP:TRANSPARENT
X-MICROSOFT-CDO-ALLDAYEVENT:TRUE
SUMMARY:Caricature Workshop via YouTube
DESCRIPTION:Oliver\, a puppet from Alex Thomas and Friends\, will teach you how to draw caricatures. (All Ages)\n\nOnline access to the YouTube video will be available Sunday\, September 6? Saturday\, September 12.\nEmail bwernert@granvillelibrary.org for private YouTube link.
X-ALT-DESC;FMTTYPE=text/html:Oliver\, a puppet from Alex Thomas and Friends\, will teach you how to draw caricatures. (All Ages)\n\nOnline access to the YouTube video will be available Sunday\, September 6? Saturday\, September 12.\nEmail bwernert@granvillelibrary.org for private YouTube link.\n
LOCATION:Granville Public Library
UID:e.180.14580
SEQUENCE:3
DTSTAMP:20260422T055355Z
URL:https://business.granvilleoh.com/events/details/caricature-workshop-via-youtube-14580
END:VEVENT

END:VCALENDAR
