BEGIN:VCALENDAR
VERSION:2.0
PRODID:-//ChamberMaster//Event Calendar 2.0//EN
METHOD:PUBLISH
X-PUBLISHED-TTL:P3D
REFRESH-INTERVAL:P3D
CALSCALE:GREGORIAN
BEGIN:VEVENT
DTSTART:20200610T170000Z
DTEND:20200610T180000Z
X-MICROSOFT-CDO-ALLDAYEVENT:FALSE
SUMMARY:Castles\, Dragons\, & Unicorns: A Drawing Adventure
DESCRIPTION:Rising Grades K to 3 Children's author and former Disney storyboard artist Kelly Bingham leads an interactive drawing and storytelling event! Bring your pens\, paper\, and imaginations to help create and illustrate a magical story filled with dragons\, unicorns\, castles\, and talking animals. Learn how to draw lots of fairytale characters step by step while building a fantastical story together. Register at GranvilleLibrary.org/calendar/month to receive a link to the program.
X-ALT-DESC;FMTTYPE=text/html:Rising Grades K to 3 Children&rsquo\;s author and former Disney storyboard artist Kelly Bingham leads an interactive drawing and storytelling event! Bring your pens\, paper\, and imaginations to help create and illustrate a magical story filled with dragons\, unicorns\, castles\, and talking animals. Learn how to draw lots of fairytale characters step by step while building a fantastical story together. Register at GranvilleLibrary.org/calendar/month to receive a link to the program.
LOCATION:Granville Public Library
UID:e.180.14515
SEQUENCE:3
DTSTAMP:20260422T102250Z
URL:https://business.granvilleoh.com/events/details/castles-dragons-unicorns-a-drawing-adventure-14515
END:VEVENT

END:VCALENDAR
