BEGIN:VCALENDAR
VERSION:2.0
PRODID:-//ChamberMaster//Event Calendar 2.0//EN
METHOD:PUBLISH
X-PUBLISHED-TTL:P3D
REFRESH-INTERVAL:P3D
CALSCALE:GREGORIAN
BEGIN:VEVENT
DTSTART:20210318T220000Z
DTEND:20210318T233000Z
X-MICROSOFT-CDO-ALLDAYEVENT:FALSE
SUMMARY:Celtic Knot Trivet
DESCRIPTION:Register to join us on Zoom to make a Celtic Knot Trivet. We'll supply everything but the scissors for this craft. We will sent an email when your kit is available for pick up. Please include an email address when registering. A zoom link will be emailed to you approximately an hour before the program begins. Register at GranvilleLibrary.org/calendar/month
X-ALT-DESC;FMTTYPE=text/html:Register to join us on Zoom to make a Celtic Knot Trivet. We&#39\;ll supply everything but the scissors for this craft. We will sent an email when your kit is available for pick up. Please include an email address when registering. A zoom link will be emailed to you approximately an hour before the program begins. Register at GranvilleLibrary.org/calendar/month
LOCATION:Granville Public Library via Zoom
UID:e.180.14755
SEQUENCE:3
DTSTAMP:20260421T220235Z
URL:https://business.granvilleoh.com/events/details/celtic-knot-trivet-14755
END:VEVENT

END:VCALENDAR
