BEGIN:VCALENDAR
VERSION:2.0
PRODID:-//ChamberMaster//Event Calendar 2.0//EN
METHOD:PUBLISH
X-PUBLISHED-TTL:P3D
REFRESH-INTERVAL:P3D
CALSCALE:GREGORIAN
BEGIN:VEVENT
DTSTART:20200319T210000Z
DTEND:20200319T230000Z
X-MICROSOFT-CDO-ALLDAYEVENT:FALSE
SUMMARY:Chamber Business After Hours - at the Bryn Du Art Show
DESCRIPTION:Come join us for a very special Chamber Business After Hours gathering at the 16th Annual Bryn Du Art Show!  GACC members and guests will have the chance to observe two Bryn Du Art Show exhibiting artists doing a demonstration of their artistic talents. We'll enjoy locally grown and produced Three Oaks Vineyard wines and unique popcorn delights courtesy of Weathervane Kettle Corn.\n\n\n\nCome and get to know your fellow Chamber members better while enjoying a superb juried art exhibition!
X-ALT-DESC;FMTTYPE=text/html:Come join us for a very special Chamber Business After Hours gathering at the 16th Annual Bryn Du Art Show!&nbsp\; GACC members and guests will have the chance to observe two Bryn Du Art Show exhibiting artists doing a demonstration of their artistic talents. We&#39\;ll enjoy locally grown and produced Three Oaks Vineyard wines and unique popcorn delights courtesy of Weathervane Kettle Corn.<br />\n<br />\nCome and get to know your fellow Chamber members better while enjoying a superb juried art exhibition!&nbsp\;
LOCATION:Bryn Du Mansion 537 Jones Road Granville\, OH 43023
UID:e.180.14352
SEQUENCE:3
DTSTAMP:20260422T143044Z
URL:https://business.granvilleoh.com/events/details/chamber-business-after-hours-at-the-bryn-du-art-show-14352
END:VEVENT

END:VCALENDAR
