BEGIN:VCALENDAR
VERSION:2.0
PRODID:-//ChamberMaster//Event Calendar 2.0//EN
METHOD:PUBLISH
X-PUBLISHED-TTL:P3D
REFRESH-INTERVAL:P3D
CALSCALE:GREGORIAN
BEGIN:VEVENT
DTSTART:20211209T000000Z
DTEND:20211209T010000Z
X-MICROSOFT-CDO-ALLDAYEVENT:FALSE
SUMMARY:Chamber Music Ensembles in concert
DESCRIPTION:The Denison Department of Music presents a recital by the college's chamber music ensembles.
X-ALT-DESC;FMTTYPE=text/html:<span style="color:rgb(34\, 34\, 34)\; font-family:arial\,helvetica\,sans-serif\; font-size:small">The Denison Department of Music presents a recital by the college&rsquo\;s chamber music ensembles.</span>
LOCATION:Michael D. Eisner Center for the Performing Arts - Burke Recital Hall 240 W Broadway Granville
UID:e.180.16132
SEQUENCE:3
DTSTAMP:20260421T100317Z
URL:https://business.granvilleoh.com/events/details/chamber-music-ensembles-in-concert-16132
END:VEVENT

END:VCALENDAR
