BEGIN:VCALENDAR
VERSION:2.0
PRODID:-//ChamberMaster//Event Calendar 2.0//EN
METHOD:PUBLISH
X-PUBLISHED-TTL:P3D
REFRESH-INTERVAL:P3D
CALSCALE:GREGORIAN
BEGIN:VEVENT
DTSTART:20201118T000000Z
DTEND:20201118T013000Z
X-MICROSOFT-CDO-ALLDAYEVENT:FALSE
SUMMARY:Chamber Music Recital
DESCRIPTION:The Department of Music presents a recital by Denison's chamber music ensembles. The concert will be livestreamed\, available to the public\, and can be viewed from anywhere. To register for the concert link please choose the 'Livestream Link' ticket option when ordering and a viewing link will be emailed to you before the concert.
X-ALT-DESC;FMTTYPE=text/html:<p>The Department of Music presents a recital by Denison&rsquo\;s chamber music ensembles. The concert will be livestreamed\, available to the public\, and can be viewed from anywhere. To register for the concert link please choose the &lsquo\;Livestream Link&rsquo\;&nbsp\;ticket option when ordering and a viewing link will be emailed to you before the concert.&nbsp\;</p>\n
LOCATION:Virtual
UID:e.180.14679
SEQUENCE:3
DTSTAMP:20260422T033231Z
URL:https://business.granvilleoh.com/events/details/chamber-music-recital-14679
END:VEVENT

END:VCALENDAR
