BEGIN:VCALENDAR
VERSION:2.0
PRODID:-//ChamberMaster//Event Calendar 2.0//EN
METHOD:PUBLISH
X-PUBLISHED-TTL:P3D
REFRESH-INTERVAL:P3D
CALSCALE:GREGORIAN
BEGIN:VEVENT
DTSTART:20210819T223000Z
DTEND:20210820T013000Z
X-MICROSOFT-CDO-ALLDAYEVENT:FALSE
SUMMARY:Cherry Valley Hotel Summer Concert Series 2021
DESCRIPTION:Join Cherry Valley Hotel for a new Summer Concert Series Thursday's in August\, 6:30pm-9:30pm! Celebrate summer with an incredible lineup and beer specials.\n\nThe series will take place on a backdrop of our beautiful gazebo overlooking our gardens. Neighbors and hotel guests are invited to enjoy local cover bands while playing backyard activities at no cost.\n\nGuests are asked to leave their chairs and coolers at home as they will have the option to borrow chairs and purchase drinks and food. No reservation necessary but we ask that guests who choose to sit at the dining tables please purchase at least two drinks. Buckets of domestic and imported beers will be available for purchase.\n\nGuests are also encouraged to enter for a chance to win prizes during the event!\n\nBand Line Up\n\nThursdays 6:30 pm - 9:30 pm\n\nAugust 5: Rock This Way - Mini Tribute Band performing multiple tunes from the likes of Journey\, Bruno Mars\, The Who\, and many more.\n\nAugust 12: GhostStory - Local cover band playing acoustic covers in all genres from pop to indie to rock. \n\nAugust 19: Chaz & Nicki - An upbeat live acoustic show that mixes feel-good classic covers with harmony-rich originals.\n\nAugust 26: Honey & Blue - A self-described mix of pop\, blues and soul.
X-ALT-DESC;FMTTYPE=text/html:<p><span style="font-size:11pt"><span style="font-family:calibri\,sans-serif"><span style="font-family:arial\,sans-serif">Join Cherry Valley Hotel for a new Summer Concert Series Thursday&#39\;s in August\, 6:30pm-9:30pm!&nbsp\;Celebrate summer with an incredible lineup and beer specials.</span></span></span></p>\n\n<p><span style="font-size:11pt"><span style="font-family:calibri\,sans-serif"><span style="font-family:arial\,sans-serif">The series will take place on a backdrop of&nbsp\;our beautiful gazebo overlooking our gardens. Neighbors and hotel guests are invited to enjoy local cover bands while playing backyard activities at no cost.</span></span></span></p>\n\n<p><span style="font-size:11pt"><span style="font-family:calibri\,sans-serif"><span style="font-family:arial\,sans-serif">Guests are asked to leave their chairs and coolers at home as they will have the option to borrow chairs and purchase drinks and food. No reservation necessary but we ask that guests who choose to sit at the dining tables please purchase at least two drinks. Buckets of domestic and imported beers will be available for purchase.</span></span></span></p>\n\n<p><span style="font-size:11pt"><span style="font-family:calibri\,sans-serif"><span style="font-family:arial\,sans-serif">Guests are also encouraged to enter for a chance to win prizes during the event!</span></span></span></p>\n\n<p><strong>Band Line Up</strong></p>\n\n<p><strong>Thursdays 6:30 pm - 9:30 pm</strong></p>\n\n<p>August 5:&nbsp\;<a href="https://www.facebook.com/RockThisWayBand" style="box-sizing: border-box\; color: rgb(198\, 68\, 70)\; text-decoration-line: none !important\;">Rock This Way</a>&nbsp\;-&nbsp\;Mini Tribute Band performing multiple tunes from the likes of Journey\, Bruno Mars\, The Who\, and many more.</p>\n\n<p>August 12:&nbsp\;<a href="https://www.facebook.com/ghoststory" style="box-sizing: border-box\; color: rgb(198\, 68\, 70)\; text-decoration-line: none !important\;">GhostStory</a>&nbsp\;-&nbsp\;Local cover band&nbsp\;playing acoustic covers in all genres from pop to indie to rock.&nbsp\;</p>\n\n<p>August 19:&nbsp\;<a href="https://www.facebook.com/chazandnicki" style="box-sizing: border-box\; color: rgb(198\, 68\, 70)\; text-decoration-line: none !important\;">Chaz &amp\; Nicki&nbsp\;</a>- An upbeat live acoustic show that mixes feel-good classic covers with harmony-rich originals.</p>\n\n<p>August 26:&nbsp\;<a href="https://www.facebook.com/HoneyandBlue" style="box-sizing: border-box\; color: rgb(198\, 68\, 70)\; text-decoration-line: none !important\;">Honey &amp\; Blue</a>&nbsp\;- A&nbsp\;self-described mix of pop\, blues and soul.</p>\n
LOCATION:Cherry Valley Hotel 2299 Cherry Valley RD SE Newark\, OH 43055
UID:e.180.16035
SEQUENCE:3
DTSTAMP:20260421T153207Z
URL:https://business.granvilleoh.com/events/details/cherry-valley-hotel-summer-concert-series-2021-08-19-2021-16035
END:VEVENT

END:VCALENDAR
