BEGIN:VCALENDAR
VERSION:2.0
PRODID:-//ChamberMaster//Event Calendar 2.0//EN
METHOD:PUBLISH
X-PUBLISHED-TTL:P3D
REFRESH-INTERVAL:P3D
CALSCALE:GREGORIAN
BEGIN:VEVENT
DTSTART:20210109T150000Z
DTEND:20210109T153000Z
X-MICROSOFT-CDO-ALLDAYEVENT:FALSE
SUMMARY:Children's Book Brunch
DESCRIPTION:Join Children's staff for children's book recommendations on Instagram @gpl_kids. Second Saturdays\, 10 10:30am January 9\, 2021 and February 13\, 2021
X-ALT-DESC;FMTTYPE=text/html:Join Children&rsquo\;s staff for children&rsquo\;s book recommendations on Instagram @gpl_kids. Second Saturdays\, 10&ndash\;10:30am January 9\, 2021 and February 13\, 2021
LOCATION:Granville Public Library via Zoom
UID:e.180.14699
SEQUENCE:3
DTSTAMP:20260422T005104Z
URL:https://business.granvilleoh.com/events/details/children-s-book-brunch-01-09-2021-14699
END:VEVENT

END:VCALENDAR
