BEGIN:VCALENDAR
VERSION:2.0
PRODID:-//ChamberMaster//Event Calendar 2.0//EN
METHOD:PUBLISH
X-PUBLISHED-TTL:P3D
REFRESH-INTERVAL:P3D
CALSCALE:GREGORIAN
BEGIN:VEVENT
DTSTART:20200615T023000Z
DTEND:20200615T033000Z
X-MICROSOFT-CDO-ALLDAYEVENT:FALSE
SUMMARY:Children's Book Brunch
DESCRIPTION:Join Children's staff each Sunday to talk books. Share what you're reading and get recommendations. Instagram Live @gpl kids Rising K to Grade 6
X-ALT-DESC;FMTTYPE=text/html:Join Children&rsquo\;s staff each Sunday to talk books. Share what you&rsquo\;re reading and get recommendations. Instagram Live&mdash\;@gpl&ndash\;kids Rising K to Grade 6
LOCATION:Granville Public Library's Children's Dept. Instagram GPL_Kids
UID:e.180.14523
SEQUENCE:3
DTSTAMP:20260422T102304Z
URL:https://business.granvilleoh.com/events/details/children-s-book-brunch-06-14-2020-14523
END:VEVENT

END:VCALENDAR
