BEGIN:VCALENDAR
VERSION:2.0
PRODID:-//ChamberMaster//Event Calendar 2.0//EN
METHOD:PUBLISH
X-PUBLISHED-TTL:P3D
REFRESH-INTERVAL:P3D
CALSCALE:GREGORIAN
BEGIN:VEVENT
DTSTART:20200913T020000Z
DTEND:20200913T023000Z
X-MICROSOFT-CDO-ALLDAYEVENT:FALSE
SUMMARY:Children's Book Brunch
DESCRIPTION:Join Children?s staff for children?s book recommendations on Instagram @gpl_kids.\n\nSecond Saturdays\, 10?10:30am\nSeptember 12\, October 10
X-ALT-DESC;FMTTYPE=text/html:Join Children?s staff for children?s book recommendations on Instagram @gpl_kids.\n\nSecond Saturdays\, 10?10:30am\nSeptember 12\, October 10
LOCATION:Granville Public Library via Instagram @gpl_kids
UID:e.180.14585
SEQUENCE:3
DTSTAMP:20260422T060146Z
URL:https://business.granvilleoh.com/events/details/children-s-book-brunch-09-12-2020-14585
END:VEVENT

END:VCALENDAR
