BEGIN:VCALENDAR
VERSION:2.0
PRODID:-//ChamberMaster//Event Calendar 2.0//EN
METHOD:PUBLISH
X-PUBLISHED-TTL:P3D
REFRESH-INTERVAL:P3D
CALSCALE:GREGORIAN
BEGIN:VEVENT
DTSTART:20201212T150000Z
DTEND:20201213T033000Z
X-MICROSOFT-CDO-ALLDAYEVENT:FALSE
SUMMARY:Children's Book Brunch
DESCRIPTION:Join Children's staff for children's book recommendations on Instagram @gpl_kids.
X-ALT-DESC;FMTTYPE=text/html:Join Children&#39\;s staff for children&#39\;s book recommendations on Instagram @gpl_kids.
LOCATION:Granville Public Library on Instagram at GPL_Kids
UID:e.180.14689
SEQUENCE:3
DTSTAMP:20260422T020221Z
URL:https://business.granvilleoh.com/events/details/children-s-book-brunch-12-12-2020-14689
END:VEVENT

END:VCALENDAR
