BEGIN:VCALENDAR
VERSION:2.0
PRODID:-//ChamberMaster//Event Calendar 2.0//EN
METHOD:PUBLISH
X-PUBLISHED-TTL:P3D
REFRESH-INTERVAL:P3D
CALSCALE:GREGORIAN
BEGIN:VEVENT
DTSTART:20200628T143000Z
DTEND:20200628T153000Z
X-MICROSOFT-CDO-ALLDAYEVENT:FALSE
SUMMARY:Children's Book Brunch: Instagram Live
DESCRIPTION:Join Children's staff each Sunday to talk books. Share what you're reading and get recommendations. Instagram Live-@gpl_kids Rising K to Grade 6
X-ALT-DESC;FMTTYPE=text/html:Join Children&#39\;s staff each Sunday to talk books. Share what you&#39\;re reading and get recommendations. Instagram Live-@gpl_kids Rising K to Grade 6
LOCATION:Granville Public Library on Instagram Live
UID:e.180.14550
SEQUENCE:3
DTSTAMP:20260422T102410Z
URL:https://business.granvilleoh.com/events/details/children-s-book-brunch-instagram-live-06-28-2020-14550
END:VEVENT

END:VCALENDAR
