BEGIN:VCALENDAR
VERSION:2.0
PRODID:-//ChamberMaster//Event Calendar 2.0//EN
METHOD:PUBLISH
X-PUBLISHED-TTL:P3D
REFRESH-INTERVAL:P3D
CALSCALE:GREGORIAN
BEGIN:VEVENT
DTSTART:20200621T143000Z
DTEND:20200621T153000Z
X-MICROSOFT-CDO-ALLDAYEVENT:FALSE
SUMMARY:Children's Book Brunch: Instagram Live
DESCRIPTION:Join the Granville Public Library's Children's staff each Sunday to talk books. Share what you're reading and get recommendations. Instagram Live @gpl_kids Rising K to Grade 6
X-ALT-DESC;FMTTYPE=text/html:Join the Granville Public Library&#39\;s Children&rsquo\;s staff each Sunday to talk books. Share what you&rsquo\;re reading and get recommendations. Instagram Live&mdash\;@gpl_kids Rising K to Grade 6
LOCATION:Granville Public Library
UID:e.180.14536
SEQUENCE:3
DTSTAMP:20260422T113721Z
URL:https://business.granvilleoh.com/events/details/children-s-book-brunch-instagram-live-14536
END:VEVENT

END:VCALENDAR
