BEGIN:VCALENDAR
VERSION:2.0
PRODID:-//ChamberMaster//Event Calendar 2.0//EN
METHOD:PUBLISH
X-PUBLISHED-TTL:P3D
REFRESH-INTERVAL:P3D
CALSCALE:GREGORIAN
BEGIN:VEVENT
DTSTART:20210213T150000Z
DTEND:20210213T153000Z
X-MICROSOFT-CDO-ALLDAYEVENT:FALSE
SUMMARY:Children's Book Brunch on Instagram
DESCRIPTION:Join Children's staff for children's book recommendations on Instagram @gpl_kids. Second Saturdays\, 10 10:30am
X-ALT-DESC;FMTTYPE=text/html:Join Children&rsquo\;s staff for children&rsquo\;s book recommendations on Instagram @gpl_kids. Second Saturdays\, 10&ndash\;10:30am
LOCATION:Granville Public Library via gpl_kids
UID:e.180.14732
SEQUENCE:3
DTSTAMP:20260422T003449Z
URL:https://business.granvilleoh.com/events/details/children-s-book-brunch-on-instagram-02-13-2021-14732
END:VEVENT

END:VCALENDAR
