BEGIN:VCALENDAR
VERSION:2.0
PRODID:-//ChamberMaster//Event Calendar 2.0//EN
METHOD:PUBLISH
X-PUBLISHED-TTL:P3D
REFRESH-INTERVAL:P3D
CALSCALE:GREGORIAN
BEGIN:VEVENT
DTSTART:20200705T143000Z
DTEND:20200705T153000Z
X-MICROSOFT-CDO-ALLDAYEVENT:FALSE
SUMMARY:Children's Book Brunch on Instagram
DESCRIPTION:Join Children?s staff each Sunday to talk books. Share what you?re reading and get recommendations.\nInstagram Live?@gpl_kids\nRising K to Grade 6
X-ALT-DESC;FMTTYPE=text/html:Join Children?s staff each Sunday to talk books. Share what you?re reading and get recommendations.\nInstagram Live?@gpl_kids\nRising K to Grade 6
LOCATION:Granville Public Librry
UID:e.180.14561
SEQUENCE:3
DTSTAMP:20260422T101421Z
URL:https://business.granvilleoh.com/events/details/children-s-book-brunch-on-instagram-14561
END:VEVENT

END:VCALENDAR
