BEGIN:VCALENDAR
VERSION:2.0
PRODID:-//ChamberMaster//Event Calendar 2.0//EN
METHOD:PUBLISH
X-PUBLISHED-TTL:P3D
REFRESH-INTERVAL:P3D
CALSCALE:GREGORIAN
BEGIN:VEVENT
DTSTART:20201114T150000Z
DTEND:20201115T033000Z
X-MICROSOFT-CDO-ALLDAYEVENT:FALSE
SUMMARY:Children's Book Brunch on Instagram Live
DESCRIPTION:Join Children's staff for children's book recommendations on Instagram @gpl_kids. Second Saturdays\, 10 10:30am November 14\, December 12
X-ALT-DESC;FMTTYPE=text/html:Join Children&rsquo\;s staff for children&rsquo\;s book recommendations on Instagram @gpl_kids. Second Saturdays\, 10&ndash\;10:30am November 14\, December 12
LOCATION:Granville Public Library on Instagram at GPL_Kids
UID:e.180.14671
SEQUENCE:3
DTSTAMP:20260422T044149Z
URL:https://business.granvilleoh.com/events/details/children-s-book-brunch-on-instagram-live-14671
END:VEVENT

END:VCALENDAR
