BEGIN:VCALENDAR
VERSION:2.0
PRODID:-//ChamberMaster//Event Calendar 2.0//EN
METHOD:PUBLISH
X-PUBLISHED-TTL:P3D
REFRESH-INTERVAL:P3D
CALSCALE:GREGORIAN
BEGIN:VEVENT
DTSTART:20200124T223000Z
DTEND:20200125T003000Z
X-MICROSOFT-CDO-ALLDAYEVENT:FALSE
SUMMARY:Closing Reception: Michael Stickrod and Erin Kirwin
DESCRIPTION:Denison Art Space in Newark holds a closing reception for Licking County Ohio artist Michael Stickrod and Erin Kirwin\, a local naturopathic doctor\, as they end their four month residency.\n\nStickrod + Kirwin will collaborate on a large scale installation using materials from their Licking County home and environment\, as well as creating a bar to serve teas sourced from wild plants of the forests and pastures where they live with their two children.\n\nAs facilitators\, Stickrod + Kirwin will have open tea sessions throughout their residency at DASIN as a place to inspire dialogue with students and community. Stickrod + Kirwin will work with Denison faculty and students in Music\, Studio Art\, Biology\, Creative Writing\, Environmental Studies and Theatre classes as well as Wellness Center staff to create an interdisciplinary installation at Denison Art Space in Newark. Stickrod + Kirwin residency is made possible by Mellon's Arts Across the Curriculum grant at Denison University.
X-ALT-DESC;FMTTYPE=text/html:<div>\n<div>\n<div>\n<div>\n<div>\n<div>\n<div>\n<div>\n<p>Denison Art Space in Newark holds a closing reception for Licking County Ohio artist Michael Stickrod and&nbsp\;Erin Kirwin\, a local naturopathic doctor\, as they end their four month residency.</p>\n\n<p>Stickrod +&nbsp\;Kirwin will collaborate&nbsp\;on a large scale installation using materials from their Licking County home and environment\, as well as creating a bar to serve teas sourced from wild plants of the forests and pastures where they live with their two children.</p>\n\n<p>As facilitators\, Stickrod + Kirwin will have open tea sessions throughout their residency at DASIN as a place to inspire dialogue with students and community. Stickrod + Kirwin will work with Denison faculty and students in Music\, Studio Art\, Biology\, Creative Writing\, Environmental Studies and Theatre classes as well as Wellness Center staff to create an interdisciplinary installation at Denison Art Space in Newark. Stickrod + Kirwin residency is made possible by Mellon&rsquo\;s Arts Across the Curriculum grant at Denison University.</p>\n\n<div>&nbsp\;</div>\n</div>\n</div>\n</div>\n</div>\n</div>\n</div>\n</div>\n</div>\n
LOCATION:Denison Art Space in Newark 23 W Church St
UID:e.180.14001
SEQUENCE:3
DTSTAMP:20260422T183134Z
URL:https://business.granvilleoh.com/events/details/closing-reception-michael-stickrod-and-erin-kirwin-14001
END:VEVENT

END:VCALENDAR
