BEGIN:VCALENDAR
VERSION:2.0
PRODID:-//ChamberMaster//Event Calendar 2.0//EN
METHOD:PUBLISH
X-PUBLISHED-TTL:P3D
REFRESH-INTERVAL:P3D
CALSCALE:GREGORIAN
BEGIN:VEVENT
DTSTART:20210616T170000Z
DTEND:20210616T190000Z
X-MICROSOFT-CDO-ALLDAYEVENT:FALSE
SUMMARY:Clue Kingdom Online Escape Room
DESCRIPTION:Register to join us for an escape room adventure! The story will continue weekly\, however\, participants may join at any time. Register for each individual session you would like to attend. This program will be held on Zoom. For grades 7-12. Registration required. Register at GranvilleLibrary.org/calendar/month
X-ALT-DESC;FMTTYPE=text/html:Register to join us for an escape room adventure! The story will continue weekly\, however\, participants may join at any time. Register for each individual session you would like to attend. This program will be held on Zoom. For grades 7-12. Registration required. Register at GranvilleLibrary.org/calendar/month
LOCATION:Granville Public Library via Zoom
UID:e.180.14807
SEQUENCE:3
DTSTAMP:20260421T191410Z
URL:https://business.granvilleoh.com/events/details/clue-kingdom-online-escape-room-14807
END:VEVENT

END:VCALENDAR
