BEGIN:VCALENDAR
VERSION:2.0
PRODID:-//ChamberMaster//Event Calendar 2.0//EN
METHOD:PUBLISH
X-PUBLISHED-TTL:P3D
REFRESH-INTERVAL:P3D
CALSCALE:GREGORIAN
BEGIN:VEVENT
DTSTART:20200608T170000Z
DTEND:20200608T173000Z
X-MICROSOFT-CDO-ALLDAYEVENT:FALSE
SUMMARY:Clyde the Coyote Show
DESCRIPTION:Clyde the Coyote (who is NOT a puppet) interviews fascinating people and puppets.\n\nAll Ages\nInstagram Live ? @gpl_kids
X-ALT-DESC;FMTTYPE=text/html:Clyde the Coyote (who is NOT a puppet) interviews fascinating people and puppets.\n\nAll Ages\nInstagram Live ? @gpl_kids
LOCATION:Granville Public Library's Instagram page-GPL_Kids
UID:e.180.14512
SEQUENCE:3
DTSTAMP:20260422T102211Z
URL:https://business.granvilleoh.com/events/details/clyde-the-coyote-show-14512
END:VEVENT

END:VCALENDAR
