BEGIN:VCALENDAR
VERSION:2.0
PRODID:-//ChamberMaster//Event Calendar 2.0//EN
METHOD:PUBLISH
X-PUBLISHED-TTL:P3D
REFRESH-INTERVAL:P3D
CALSCALE:GREGORIAN
BEGIN:VEVENT
DTSTART:20201026T200000Z
DTEND:20201026T203000Z
X-MICROSOFT-CDO-ALLDAYEVENT:FALSE
SUMMARY:Clyde the Coyote Show on Instagram Live
DESCRIPTION:Clyde the Coyote (who is NOT a puppet) interviews fascinating people and puppets on Instagram Live - @gpl_kids.
X-ALT-DESC;FMTTYPE=text/html:Clyde the Coyote (who is NOT a puppet) interviews fascinating people and puppets on Instagram Live - @gpl_kids.
LOCATION:Granville Public Library at GPL_Kids on Instagram
UID:e.180.14653
SEQUENCE:3
DTSTAMP:20260422T043933Z
URL:https://business.granvilleoh.com/events/details/clyde-the-coyote-show-on-instagram-live-14653
END:VEVENT

END:VCALENDAR
