BEGIN:VCALENDAR
VERSION:2.0
PRODID:-//ChamberMaster//Event Calendar 2.0//EN
METHOD:PUBLISH
X-PUBLISHED-TTL:P3D
REFRESH-INTERVAL:P3D
CALSCALE:GREGORIAN
BEGIN:VEVENT
DTSTART:20200622T170000Z
DTEND:20200622T173000Z
X-MICROSOFT-CDO-ALLDAYEVENT:FALSE
SUMMARY:Clydet-the-Coyote Show: Instagram Live
DESCRIPTION:Clyde the Coyote (who is NOT a puppet) interviews fascinating people and puppets. All Ages Instagram Live   @gpl_kids
X-ALT-DESC;FMTTYPE=text/html:Clyde the Coyote (who is NOT a puppet) interviews fascinating people and puppets. All Ages Instagram Live &mdash\; @gpl_kids
LOCATION:Granville Public Library
UID:e.180.14537
SEQUENCE:3
DTSTAMP:20260422T114314Z
URL:https://business.granvilleoh.com/events/details/clydet-the-coyote-show-instagram-live-14537
END:VEVENT

END:VCALENDAR
