BEGIN:VCALENDAR
VERSION:2.0
PRODID:-//ChamberMaster//Event Calendar 2.0//EN
METHOD:PUBLISH
X-PUBLISHED-TTL:P3D
REFRESH-INTERVAL:P3D
CALSCALE:GREGORIAN
BEGIN:VEVENT
DTSTART:20250228T130000Z
DTEND:20250228T140000Z
X-MICROSOFT-CDO-ALLDAYEVENT:FALSE
SUMMARY:Coffee Chat - Let's Talk About AI
DESCRIPTION:Presented by Jack Spiller\, AI Owl\n\nFriday\, February 28\, 2025\n\n8:00am \n\nJoin us for a Marketing Coffee Chat exploring the power of AI in the workplace with Jack Spiller from AI Owl. Jack will share insights on how businesses can work smarter with AI automating tasks\, streamlining workflows\, and upskilling teams to stay ahead in an evolving digital landscape.\n\n \n\nWhether you're looking to enhance customer engagement\, improve workflows\, or simply understand how AI can be a real competitive advantage\, this session will provide practical takeaways and strategies. Bring your questions\, grab a coffee\, and join the conversation!
X-ALT-DESC;FMTTYPE=text/html:<p style="margin: 0px\; padding: 0px\; color: rgb(255\, 95\, 117)\; font-family: Roboto\, sans-serif\; font-size: 20px\; font-weight: 700\; white-space-collapse: preserve\;"><span style="font-size: 17px\; color: rgb(41\, 75\, 147)\; font-weight: normal\;">Presented by Jack Spiller\, AI Owl</span></p>\n\n<p style="margin: 0px\; padding: 0px\; color: rgb(255\, 95\, 117)\; font-family: Roboto\, sans-serif\; font-size: 20px\; font-weight: 700\; white-space-collapse: preserve\;"><span style="font-size: 17px\; color: rgb(41\, 75\, 147)\; font-family: &quot\;Lucida Sans Unicode&quot\;\, &quot\;Lucida Grande&quot\;\, sans-serif\; font-weight: normal\;">Friday\, February 28\, 2025</span></p>\n\n<p style="margin: 0px\; padding: 0px\; color: rgb(255\, 95\, 117)\; font-family: Roboto\, sans-serif\; font-size: 20px\; font-weight: 700\; white-space-collapse: preserve\;"><span style="font-size: 17px\; color: rgb(41\, 75\, 147)\; font-weight: normal\; font-family: &quot\;Lucida Sans Unicode&quot\;\, &quot\;Lucida Grande&quot\;\, sans-serif\;">8:00am </span></p>\n\n<p style="margin: 0px\; padding: 0px\; color: rgb(255\, 95\, 117)\; font-family: Roboto\, sans-serif\; font-size: 20px\; font-weight: 700\; white-space-collapse: preserve\;"><span style="font-size: 16px\; color: rgb(41\, 75\, 147)\; font-weight: normal\; font-family: &quot\;Segoe UI&quot\;\, &quot\;Lucida Grande&quot\;\, Tahoma\, sans-serif\;">Join us for a Marketing Coffee Chat exploring the power of AI in the workplace with Jack Spiller from AI Owl. Jack will share insights on how businesses can work smarter with AI&mdash\;automating tasks\, streamlining workflows\, and upskilling teams to stay ahead in an evolving digital landscape.</span></p>\n\n<p style="margin: 0px\; padding: 0px\; color: rgb(255\, 95\, 117)\; font-family: Roboto\, sans-serif\; font-size: 20px\; font-weight: 700\; white-space-collapse: preserve\;">&nbsp\;</p>\n\n<p style="margin: 0px\; padding: 0px\; color: rgb(255\, 95\, 117)\; font-family: Roboto\, sans-serif\; font-size: 20px\; font-weight: 700\; white-space-collapse: preserve\;"><span style="color: rgb(41\, 75\, 147)\; font-size: 16px\; font-weight: normal\;">Whether you&#39\;re looking to enhance customer engagement\, improve workflows\, or simply understand how AI can be a real competitive advantage\, this session will provide practical takeaways and strategies. Bring your questions\, grab a coffee\, and join the conversation!</span></p>\n
LOCATION:River Road Coffeehouse Downtown on the Square 26 N Park Place Newark\, Oh 43055
UID:e.180.18275
SEQUENCE:3
DTSTAMP:20260421T163029Z
URL:https://business.granvilleoh.com/events/details/coffee-chat-let-s-talk-about-ai-18275
END:VEVENT

END:VCALENDAR
