BEGIN:VCALENDAR
VERSION:2.0
PRODID:-//ChamberMaster//Event Calendar 2.0//EN
METHOD:PUBLISH
X-PUBLISHED-TTL:P3D
REFRESH-INTERVAL:P3D
CALSCALE:GREGORIAN
BEGIN:VEVENT
DTSTART:20210626T130000Z
DTEND:20210626T210000Z
X-MICROSOFT-CDO-ALLDAYEVENT:FALSE
SUMMARY:Community (Garage) Sale
DESCRIPTION:Join us for a grand COMMUNITY SALE occurring during the Great Granville Garage Sale! \n\n\n\nEarly Bird Members-Only Preview on Friday\, June 25th from 9 am to 4 pm \n\n\n\nOur LCCC members have donated so many wonderful items - we're sure that you will find many treasures!\n\n\n\nFunds raised will offset the costs of upgrading our Cafe' LCCC kitchen and seating area to prepare our noon meal services.\n\n\n\nQyestions?  Call us at (740) 587-1333
X-ALT-DESC;FMTTYPE=text/html:Join us for a grand COMMUNITY SALE occurring during the Great Granville Garage Sale!&nbsp\;<br />\n<br />\nEarly Bird Members-Only Preview on Friday\, June 25th from 9 am to 4 pm&nbsp\;<br />\n<br />\nOur LCCC members have donated so many wonderful items - we&#39\;re sure that you will find many treasures!<br />\n<br />\nFunds raised will offset the costs of upgrading our Cafe&#39\; LCCC kitchen and seating area to prepare our noon meal services.<br />\n<br />\nQyestions?&nbsp\; Call us at (740) 587-1333<br />\n&nbsp\;
LOCATION:Licking County Community Center for 60+ Adults 3825 Columbus Road\, Building D Granville\, OH 43023
UID:e.180.14825
SEQUENCE:3
DTSTAMP:20260421T175704Z
URL:https://business.granvilleoh.com/events/details/community-garage-sale-14825
END:VEVENT

END:VCALENDAR
