BEGIN:VCALENDAR
VERSION:2.0
PRODID:-//ChamberMaster//Event Calendar 2.0//EN
METHOD:PUBLISH
X-PUBLISHED-TTL:P3D
REFRESH-INTERVAL:P3D
CALSCALE:GREGORIAN
BEGIN:VEVENT
DTSTART:20211202T000000Z
DTEND:20211202T010000Z
X-MICROSOFT-CDO-ALLDAYEVENT:FALSE
SUMMARY:Composers Seminar Recital with ETHEL
DESCRIPTION:The Denison University's Department of Music presents a composers seminar recital with ETHEL.
X-ALT-DESC;FMTTYPE=text/html:<div>\n<p>The Denison University&#39\;s Department of Music presents a composers seminar recital with ETHEL.</p>\n\n<p>&nbsp\;</p>\n\n<div>&nbsp\;</div>\n</div>\n
LOCATION:Michael D. Eisner Center for the Performing Arts - Sharon Martin Hall 240 W Broadway Granville
UID:e.180.16129
SEQUENCE:3
DTSTAMP:20260421T111810Z
URL:https://business.granvilleoh.com/events/details/composers-seminar-recital-with-ethel-16129
END:VEVENT

END:VCALENDAR
