BEGIN:VCALENDAR
VERSION:2.0
PRODID:-//ChamberMaster//Event Calendar 2.0//EN
METHOD:PUBLISH
X-PUBLISHED-TTL:P3D
REFRESH-INTERVAL:P3D
CALSCALE:GREGORIAN
BEGIN:VEVENT
DTSTART:20211103T233000Z
DTEND:20211104T003000Z
X-MICROSOFT-CDO-ALLDAYEVENT:FALSE
SUMMARY:Composers Seminar Recital with Third Coast Percussion
DESCRIPTION:The Department of Music presents a concert of new music created by student composers featuring ensemble-in-residence Third Coast Percussion. Directed by HyeKyung Lee\, the recital features the work of the following student composers: Claire Alexander\, Katie Amrine\, Parker Bailey\, Jesse Felker\, Olivia Jump\, Ben Katz\, Dawson Kimbell\, Charlotte Koonce\, Malcolm McDonough\, Gene Otto\, Lanie Rogers\, Jaelyn Roth\, and Ali Ziegler-Kahn.
X-ALT-DESC;FMTTYPE=text/html:<span style="color:rgb(34\, 34\, 34)\; font-family:arial\,helvetica\,sans-serif\; font-size:small">The Department of Music presents a concert of new music created by student composers featuring ensemble-in-residence Third Coast Percussion. Directed by HyeKyung Lee\, the recital features the work of the following student composers: Claire Alexander\, Katie Amrine\, Parker Bailey\, Jesse Felker\, Olivia Jump\, Ben Katz\, Dawson Kimbell\, Charlotte Koonce\, Malcolm McDonough\, Gene Otto\, Lanie Rogers\, Jaelyn Roth\, and Ali Ziegler-Kahn.&nbsp\;&nbsp\;</span><br />\n<br />\n&nbsp\;
LOCATION:Michael D. Eisner Center for the Performing Arts - Burke Recital Hall 240 W Broadway Granville
UID:e.180.16113
SEQUENCE:3
DTSTAMP:20260421T111722Z
URL:https://business.granvilleoh.com/events/details/composers-seminar-recital-with-third-coast-percussion-16113
END:VEVENT

END:VCALENDAR
