BEGIN:VCALENDAR
VERSION:2.0
PRODID:-//ChamberMaster//Event Calendar 2.0//EN
METHOD:PUBLISH
X-PUBLISHED-TTL:P3D
REFRESH-INTERVAL:P3D
CALSCALE:GREGORIAN
BEGIN:VEVENT
DTSTART:20210224T003000Z
DTEND:20210224T013000Z
X-MICROSOFT-CDO-ALLDAYEVENT:FALSE
SUMMARY:Conversation with David Aldridge and Dave Zirin
DESCRIPTION:Denison University's Beck series and Narrative Journalism welcome sports writers David Aldridge and Dave Zirin.\n\nAldridge is the editor-in-chief of The Athletic's Washington DC bureau. A member of the Naismith Hall of Fame\, he has worked for Turner Sports\, ESPN\, and the Washington Post.\n\nZirin was named one of UTNE Reader's "50 Visionaries Who Are Changing Our World." Zirin is The Nation's first-ever sports writer. Referred to as the "conscience of American sportswriting" by The Washington Post\, he co-hosts the popular radio program\, "The Collision: Where Sports and Politics Collide."\n\nThe virtual event is free and open to the public and will take place over Zoom. Register for the Zoom link at https://bit.ly/2Z6cCKP.
X-ALT-DESC;FMTTYPE=text/html:<p><span style="font-family:arial\; font-size:11pt">Denison University&rsquo\;s</span><span style="font-family:arial\; font-size:11pt"> Beck series and Narrative Journalism welcome sports writers David Aldridge and Dave Zirin.</span></p>\n\n<p><span style="color:rgb(0\, 0\, 0)\; font-family:verdana\,geneva\,sans-serif\; font-size:12px"><span style="font-family:arial\; font-size:11pt">Aldridge is the editor-in-chief of The Athletic&rsquo\;s Washington DC bureau. A member of the Naismith Hall of Fame\, he has worked for Turner Sports\, ESPN\, and the Washington Post.</span></span></p>\n\n<p><span style="color:rgb(0\, 0\, 0)\; font-family:arial\; font-size:11pt">Zirin was named one of UTNE Reader&rsquo\;s &ldquo\;50 Visionaries Who Are Changing Our World.&quot\; Zirin is The Nation&rsquo\;s first-ever sports writer. Referred to as the &ldquo\;conscience of American sportswriting&rdquo\; by The Washington Post\, he co-hosts the popular radio program\, &ldquo\;The Collision: Where Sports and Politics Collide.&rdquo\;</span></p>\n\n<div><span style="background-color:transparent\; color:rgb(0\, 0\, 0)\; font-family:arial\; font-size:11pt">The virtual event is free and open to the public and will take place over Zoom.&nbsp\;</span><span style="color:rgb(0\, 0\, 0)\; font-family:arial\; font-size:11pt">Register for the Zoom link at&nbsp\;</span><span style="color:rgb(0\, 0\, 0)\; font-family:arial\; font-size:11pt\; text-decoration-line:none"><a href="https://bit.ly/2Z6cCKP" style="text-decoration-line: none\;">https://bit.ly/2Z6cCKP</a>.</span></div>\n\n<p>&nbsp\;</p>\n\n<div>&nbsp\;</div>\n
LOCATION:Virtual
UID:e.180.14744
SEQUENCE:3
DTSTAMP:20260421T232903Z
URL:https://business.granvilleoh.com/events/details/conversation-with-david-aldridge-and-dave-zirin-14744
END:VEVENT

END:VCALENDAR
