BEGIN:VCALENDAR
VERSION:2.0
PRODID:-//ChamberMaster//Event Calendar 2.0//EN
METHOD:PUBLISH
X-PUBLISHED-TTL:P3D
REFRESH-INTERVAL:P3D
CALSCALE:GREGORIAN
BEGIN:VEVENT
DTSTART:20200120T143000Z
DTEND:20200121T033000Z
X-MICROSOFT-CDO-ALLDAYEVENT:FALSE
SUMMARY:COSI Workshop: Animal Tales
DESCRIPTION:In this wild hands-on program encounter habitats\, adaptations\, and the science behind what all living things need. For preschool to Grade 2 Register at granvillelibrary.org/calendar. Space is limited to 30 children with an accompanying adult (no more than 2 kids per adult).
X-ALT-DESC;FMTTYPE=text/html:In this wild hands-on program encounter habitats\, adaptations\, and the science behind what all living things need. For preschool to Grade 2 Register at granvillelibrary.org/calendar. Space is limited to 30 children with an accompanying adult (no more than 2 kids per adult).
LOCATION:Granville Public Library
UID:e.180.14022
SEQUENCE:3
DTSTAMP:20260422T171039Z
URL:https://business.granvilleoh.com/events/details/cosi-workshop-animal-tales-14022
END:VEVENT

END:VCALENDAR
