BEGIN:VCALENDAR
VERSION:2.0
PRODID:-//ChamberMaster//Event Calendar 2.0//EN
METHOD:PUBLISH
X-PUBLISHED-TTL:P3D
REFRESH-INTERVAL:P3D
CALSCALE:GREGORIAN
BEGIN:VEVENT
DTSTART:20200915T230000Z
DTEND:20200916T000000Z
X-MICROSOFT-CDO-ALLDAYEVENT:FALSE
SUMMARY:COVID & the College Search
DESCRIPTION:How has the landscape of college admissions changed since COVID-19? What about the search process for families? Admissions? Testing? Campus Visits? Financial Aid? Every aspect of the process has been touched by the pandemic. Learn some pro-tips for navigating admissions in our new reality.\n\nParents and students in grades 10-12\, join us for this presentation by Amber Gilsdorf College Planning Consultant for Estrela Consulting\, LLC.  Register to receive an invite to the Zoom meeting about an hour before the presentation begins.
X-ALT-DESC;FMTTYPE=text/html:How has the landscape of college admissions changed since COVID-19? What about the search process for families? Admissions? Testing? Campus Visits? Financial Aid? Every aspect of the process has been touched by the pandemic. Learn some pro-tips for navigating admissions in our new reality.\n\nParents and students in grades 10-12\, join us for this presentation by Amber Gilsdorf College Planning Consultant for Estrela Consulting\, LLC.  Register to receive an invite to the Zoom meeting about an hour before the presentation begins.
LOCATION:Granville Public Library via Zoom
UID:e.180.14587
SEQUENCE:3
DTSTAMP:20260422T060034Z
URL:https://business.granvilleoh.com/events/details/covid-the-college-search-14587
END:VEVENT

END:VCALENDAR
