BEGIN:VCALENDAR
VERSION:2.0
PRODID:-//ChamberMaster//Event Calendar 2.0//EN
METHOD:PUBLISH
X-PUBLISHED-TTL:P3D
REFRESH-INTERVAL:P3D
CALSCALE:GREGORIAN
BEGIN:VEVENT
DTSTART:20210319T220000Z
DTEND:20210319T233000Z
X-MICROSOFT-CDO-ALLDAYEVENT:FALSE
SUMMARY:CSI Grounded: Teen Online Escape Room
DESCRIPTION:It's murder at 30\,000 feet! And the culprit is still on the plane with you! Solve the clues to unravel the mystery\, find the killer\, and escape! You will receive an email when your clue packet is available for pick up at the library. Don't peek! For teens in grades 7-12. Register at GranvilleLibrary.org/calendar/month
X-ALT-DESC;FMTTYPE=text/html:It&#39\;s murder at 30\,000 feet! And the culprit is still on the plane with you! Solve the clues to unravel the mystery\, find the killer\, and escape! You will receive an email when your clue packet is available for pick up at the library. Don&#39\;t peek! For teens in grades 7-12. Register at GranvilleLibrary.org/calendar/month
LOCATION:Granville Public Library via Zoom
UID:e.180.14757
SEQUENCE:3
DTSTAMP:20260421T233347Z
URL:https://business.granvilleoh.com/events/details/csi-grounded-teen-online-escape-room-14757
END:VEVENT

END:VCALENDAR
