BEGIN:VCALENDAR
VERSION:2.0
PRODID:-//ChamberMaster//Event Calendar 2.0//EN
METHOD:PUBLISH
X-PUBLISHED-TTL:P3D
REFRESH-INTERVAL:P3D
CALSCALE:GREGORIAN
BEGIN:VEVENT
DTSTART;VALUE=DATE:20200614
DTEND;VALUE=DATE:20200620
TRANSP:TRANSPARENT
X-MICROSOFT-CDO-ALLDAYEVENT:TRUE
SUMMARY:Dad Joke Contest
DESCRIPTION:Teens\, send us a video of yourself telling your best Dad joke to be entered to win an Amazon gift card. Entries will be shared on the library's social media. Email entries to lcparker@granvillelibrary.org. We'll share the premier video on Saturday\, June 20 at 7:00pm just in time for Father's Day. Rising 7-12 grade.
X-ALT-DESC;FMTTYPE=text/html:Teens\, send us a video of yourself telling your best Dad joke to be entered to win an Amazon gift card. Entries will be shared on the library&#39\;s social media. Email entries to lcparker@granvillelibrary.org. We&#39\;ll share the premier video on Saturday\, June 20 at 7:00pm just in time for Father&#39\;s Day. Rising 7-12 grade.
LOCATION:Granville Public Library
UID:e.180.14522
SEQUENCE:3
DTSTAMP:20260422T102112Z
URL:https://business.granvilleoh.com/events/details/dad-joke-contest-14522
END:VEVENT

END:VCALENDAR
