BEGIN:VCALENDAR
VERSION:2.0
PRODID:-//ChamberMaster//Event Calendar 2.0//EN
METHOD:PUBLISH
X-PUBLISHED-TTL:P3D
REFRESH-INTERVAL:P3D
CALSCALE:GREGORIAN
BEGIN:VEVENT
DTSTART:20200924T223000Z
DTEND:20200924T233000Z
X-MICROSOFT-CDO-ALLDAYEVENT:FALSE
SUMMARY:Delita Martin Artist Talk
DESCRIPTION:The Department of Studio Art welcomes Delita Martin presenting an artist talk. Martin received her Bachelor of Fine Arts in drawing from Texas Southern University and Master of Fine Arts in printmaking from Purdue University. Formally a member of the fine arts faculty at the University of Arkansas at Little Rock\, Martin is currently working as a full-time artist in her studio. In 2015 she was featured in the International Review of African American Art as one of sixteen "African American Artists to Watch" who are gaining national and international recognition.\n\nThe event is open to the public on zoom. Register to receive the zoom link.
X-ALT-DESC;FMTTYPE=text/html:<p>The Department of Studio Art welcomes Delita Martin presenting an artist talk. Martin received her Bachelor of Fine Arts in drawing from Texas Southern University and Master of Fine Arts in printmaking from Purdue University. Formally a member of the fine arts faculty at the University of Arkansas at Little Rock\, Martin is currently working as a full-time artist&nbsp\;in her studio. In 2015 she was featured in the International Review of African American Art as one of sixteen &ldquo\;African American Artists to Watch&rdquo\;&nbsp\;who are gaining national and international recognition.</p>\n\n<p>The event is open to the public on zoom. Register to receive the zoom link.</p>\n
LOCATION:Virtual
UID:e.180.14628
SEQUENCE:3
DTSTAMP:20260422T060145Z
URL:https://business.granvilleoh.com/events/details/delita-martin-artist-talk-14628
END:VEVENT

END:VCALENDAR
