BEGIN:VCALENDAR
VERSION:2.0
PRODID:-//ChamberMaster//Event Calendar 2.0//EN
METHOD:PUBLISH
X-PUBLISHED-TTL:P3D
REFRESH-INTERVAL:P3D
CALSCALE:GREGORIAN
BEGIN:VEVENT
DTSTART:20201002T220000Z
DTEND:20201002T223000Z
X-MICROSOFT-CDO-ALLDAYEVENT:FALSE
SUMMARY:Denison Bluegrass Ensemble: World of Bluegrass Festival performance
DESCRIPTION:Denison's Bluegrass Ensemble\, under the direction of Adam Schlenker\, is one of eight college bands presenting sets at this year's virtual Word of Bluegrass Festival presented by International Bluegrass Music Association.  \n\nDenison performs at 6:10 pm ET (5:10 pm CT). The event is free to watch but registration is required.
X-ALT-DESC;FMTTYPE=text/html:<p>Denison&rsquo\;s Bluegrass Ensemble\, under the direction of Adam Schlenker\, is one of eight college bands presenting sets at this year&rsquo\;s virtual Word of Bluegrass Festival presented by International Bluegrass Music Association. &nbsp\;</p>\n\n<p>Denison performs at 6:10 pm&nbsp\;ET (5:10 pm&nbsp\;CT). The event is free to watch but registration is required.&nbsp\;</p>\n
LOCATION:Virtual
UID:e.180.14634
SEQUENCE:3
DTSTAMP:20260422T061225Z
URL:https://business.granvilleoh.com/events/details/denison-bluegrass-ensemble-world-of-bluegrass-festival-performance-14634
END:VEVENT

END:VCALENDAR
