BEGIN:VCALENDAR
VERSION:2.0
PRODID:-//ChamberMaster//Event Calendar 2.0//EN
METHOD:PUBLISH
X-PUBLISHED-TTL:P3D
REFRESH-INTERVAL:P3D
CALSCALE:GREGORIAN
BEGIN:VEVENT
DTSTART:20211210T000000Z
DTEND:20211210T010000Z
X-MICROSOFT-CDO-ALLDAYEVENT:FALSE
SUMMARY:Denison Choirs present 'Flowers Will Bloom'
DESCRIPTION:Denison Chamber Singers and Concert Choir\, under the direction of Harris Ipok\, present "Flowers Will Bloom\," a winter program with traditional carols of Advent and Christmas\, as well as secular pieces celebrating the changing of the seasons. Featuring works by Franz Biebl\, Yoko Kanno\, Shawn Kirchner\, Paul Manz\, Josef Rheinberger\, Jake Runestad\, and others.
X-ALT-DESC;FMTTYPE=text/html:<div>\n<p><span style="color:rgb(34\, 34\, 34)\; font-family:arial\,helvetica\,sans-serif\; font-size:small">Denison Chamber Singers and Concert Choir\, under the direction of Harris Ipok\, present &ldquo\;Flowers Will Bloom\,&rdquo\; a winter program with traditional carols of Advent and Christmas\, as well as secular pieces celebrating the changing of the seasons. Featuring works by Franz Biebl\, Yoko Kanno\, Shawn Kirchner\, Paul Manz\, Josef Rheinberger\, Jake Runestad\, and others.</span></p>\n\n<div>&nbsp\;</div>\n</div>\n
LOCATION:Swasey Chapel 200 Chapel Dr
UID:e.180.16134
SEQUENCE:3
DTSTAMP:20260421T094405Z
URL:https://business.granvilleoh.com/events/details/denison-choirs-present-flowers-will-bloom-16134
END:VEVENT

END:VCALENDAR
