BEGIN:VCALENDAR
VERSION:2.0
PRODID:-//ChamberMaster//Event Calendar 2.0//EN
METHOD:PUBLISH
X-PUBLISHED-TTL:P3D
REFRESH-INTERVAL:P3D
CALSCALE:GREGORIAN
BEGIN:VEVENT
DTSTART:20200204T003000Z
DTEND:20200204T020000Z
X-MICROSOFT-CDO-ALLDAYEVENT:FALSE
SUMMARY:Denison’s Global Studies Seminar presents Brian Norris
DESCRIPTION:The Global Studies Seminar presents Brian Norris\, visiting assistant professor of political science at Denison presenting\, "Corruption in Mozambique\, Zambia\, Bolivia\, and Honduras."
X-ALT-DESC;FMTTYPE=text/html:<span style="background-color:transparent\; font-family:arial\; font-size:11pt">The Global Studies Seminar presents&nbsp\;</span><span style="background-color:transparent\; font-size:11pt">Brian Norris\, visiting assistant professor of political science at Denison presenting\, &ldquo\;Corruption in Mozambique\, Zambia\, Bolivia\, and Honduras.&rdquo\;</span>
LOCATION:Denison University Shepardson College Room of Denison University's Slayter Hall 200 Ridge Road
UID:e.180.14258
SEQUENCE:3
DTSTAMP:20260422T171039Z
URL:https://business.granvilleoh.com/events/details/denison-s-global-studies-seminar-presents-brian-norris-14258
END:VEVENT

END:VCALENDAR
