BEGIN:VCALENDAR
VERSION:2.0
PRODID:-//ChamberMaster//Event Calendar 2.0//EN
METHOD:PUBLISH
X-PUBLISHED-TTL:P3D
REFRESH-INTERVAL:P3D
CALSCALE:GREGORIAN
BEGIN:VEVENT
DTSTART:20200225T003000Z
DTEND:20200225T020000Z
X-MICROSOFT-CDO-ALLDAYEVENT:FALSE
SUMMARY:Denison’s Global Studies Seminar presents Fadhel Kaboub
DESCRIPTION:The Global Studies Seminar presents Fadhel Kaboub\, associate professor of economics at Denison and the President of the Global Institute for Sustainable Prosperity presenting\, "The Case for a Global Green New Deal: Climate Debt & Colonial Reparations."
X-ALT-DESC;FMTTYPE=text/html:<span style="background-color:transparent\; font-family:arial\; font-size:11pt">The Global Studies Seminar presents&nbsp\;</span><span style="background-color:transparent\; font-size:11pt">Fadhel Kaboub\, associate professor of economics at Denison and the President of the Global Institute for Sustainable Prosperity presenting\, &ldquo\;The Case for a Global Green New Deal: Climate Debt &amp\; Colonial Reparations.&rdquo\;&nbsp\;</span>
LOCATION:Denison University Herrick Hall 600 West Loop
UID:e.180.14261
SEQUENCE:3
DTSTAMP:20260422T160030Z
URL:https://business.granvilleoh.com/events/details/denison-s-global-studies-seminar-presents-fadhel-kaboub-14261
END:VEVENT

END:VCALENDAR
