BEGIN:VCALENDAR
VERSION:2.0
PRODID:-//ChamberMaster//Event Calendar 2.0//EN
METHOD:PUBLISH
X-PUBLISHED-TTL:P3D
REFRESH-INTERVAL:P3D
CALSCALE:GREGORIAN
BEGIN:VEVENT
DTSTART:20200211T003000Z
DTEND:20200211T020000Z
X-MICROSOFT-CDO-ALLDAYEVENT:FALSE
SUMMARY:Denison’s Global Studies Seminar presents John Cort
DESCRIPTION:The Global Studies Seminar presents John Cort\, professor of religion and the Judy Gentili Chair in International Studies Program at Denison presenting\, "Temples on the Move: Indian Domestic Shrines in American Museum Collections."
X-ALT-DESC;FMTTYPE=text/html:<span style="background-color:transparent\; font-family:arial\; font-size:11pt">The Global Studies Seminar presents&nbsp\;</span><span style="background-color:transparent\; font-size:11pt">John Cort\, professor of religion and the Judy Gentili Chair in International Studies Program at Denison presenting\, &ldquo\;Temples on the Move: Indian Domestic Shrines in American Museum Collections.&rdquo\;</span>
LOCATION:Denison University Shepardson College Room of Denison University's Slayter Hall 200 Ridge Road
UID:e.180.14259
SEQUENCE:3
DTSTAMP:20260422T171100Z
URL:https://business.granvilleoh.com/events/details/denison-s-global-studies-seminar-presents-john-cort-14259
END:VEVENT

END:VCALENDAR
