BEGIN:VCALENDAR
VERSION:2.0
PRODID:-//ChamberMaster//Event Calendar 2.0//EN
METHOD:PUBLISH
X-PUBLISHED-TTL:P3D
REFRESH-INTERVAL:P3D
CALSCALE:GREGORIAN
BEGIN:VEVENT
DTSTART:20200218T003000Z
DTEND:20200218T020000Z
X-MICROSOFT-CDO-ALLDAYEVENT:FALSE
SUMMARY:Denison’s Global Studies Seminar presents Rebecca Futo Kennedy
DESCRIPTION:The Global Studies Seminar presents Rebecca Futo Kennedy\, associate professor of classical studies\, women's and gender studies\, and environmental studies at Denison presenting\, "Tracing Women's Movements in the Ancient Greek Mediterranean."
X-ALT-DESC;FMTTYPE=text/html:<span style="background-color:transparent\; font-family:arial\; font-size:11pt">The Global Studies Seminar presents&nbsp\;</span><span style="background-color:transparent\; font-size:11pt">Rebecca Futo Kennedy\, associate professor of classical studies\, women&#39\;s and gender studies\, and environmental studies at Denison presenting\, &rdquo\;Tracing Women&#39\;s Movements in the Ancient Greek Mediterranean.&rdquo\;&nbsp\;</span>
LOCATION:Denison University Shepardson College Room of Denison University's Slayter Hall 200 Ridge Road
UID:e.180.14260
SEQUENCE:3
DTSTAMP:20260422T160348Z
URL:https://business.granvilleoh.com/events/details/denison-s-global-studies-seminar-presents-rebecca-futo-kennedy-14260
END:VEVENT

END:VCALENDAR
