BEGIN:VCALENDAR
VERSION:2.0
PRODID:-//ChamberMaster//Event Calendar 2.0//EN
METHOD:PUBLISH
X-PUBLISHED-TTL:P3D
REFRESH-INTERVAL:P3D
CALSCALE:GREGORIAN
BEGIN:VEVENT
DTSTART:20200307T200000Z
DTEND:20200307T213000Z
X-MICROSOFT-CDO-ALLDAYEVENT:FALSE
SUMMARY:Denison's TUTTI Festival: Columbus Symphony Orchestra Woodwind Quintet
DESCRIPTION:The TUTTI festival present the Columbus Symphony Orchestra Woodwind Quintet.\n\nDenison's TUTTI Festival 2020 celebrates the arts through concerts\, workshops and exhibits and takes place March 3 through March 7\, 2020.
X-ALT-DESC;FMTTYPE=text/html:<p><span style="color:rgb(69\, 69\, 69)\; font-family:freight sans pro w00\; font-size:19.2px">The TUTTI festival present the Columbus Symphony Orchestra Woodwind Quintet.</span></p>\n\n<p>Denison&rsquo\;s TUTTI Festival 2020 celebrates the arts through concerts\, workshops and exhibits and takes place March 3 through March 7\, 2020.</p>\n
LOCATION:Denison University Burke Recital Hall of the Michael D. Eisner Center for the Performing Arts 240 West Broadway
UID:e.180.14337
SEQUENCE:3
DTSTAMP:20260422T154718Z
URL:https://business.granvilleoh.com/events/details/denison-s-tutti-festival-columbus-symphony-orchestra-woodwind-quintet-14337
END:VEVENT

END:VCALENDAR
