BEGIN:VCALENDAR
VERSION:2.0
PRODID:-//ChamberMaster//Event Calendar 2.0//EN
METHOD:PUBLISH
X-PUBLISHED-TTL:P3D
REFRESH-INTERVAL:P3D
CALSCALE:GREGORIAN
BEGIN:VEVENT
DTSTART:20200305T200000Z
DTEND:20200305T213000Z
X-MICROSOFT-CDO-ALLDAYEVENT:FALSE
SUMMARY:Denison's TUTTI Festival: Concert with faculty and students
DESCRIPTION:Denison's TUTTI Festival presents a concert featuring faculty and students.\n\nDenison's TUTTI Festival 2020 celebrates the arts through concerts\, workshops and exhibits and takes place March 3 through March 7\, 2020.
X-ALT-DESC;FMTTYPE=text/html:<p>Denison&rsquo\;s TUTTI Festival presents a concert featuring faculty and students.</p>\n\n<p>Denison&rsquo\;s TUTTI Festival 2020 celebrates the arts through concerts\, workshops and exhibits and takes place March 3 through March 7\, 2020.</p>\n
LOCATION:Denison University Burke Recital Hall of the Michael D. Eisner Center for the Performing Arts 240 West Broadway
UID:e.180.14330
SEQUENCE:3
DTSTAMP:20260422T143306Z
URL:https://business.granvilleoh.com/events/details/denison-s-tutti-festival-concert-with-faculty-and-students-14330
END:VEVENT

END:VCALENDAR
