BEGIN:VCALENDAR
VERSION:2.0
PRODID:-//ChamberMaster//Event Calendar 2.0//EN
METHOD:PUBLISH
X-PUBLISHED-TTL:P3D
REFRESH-INTERVAL:P3D
CALSCALE:GREGORIAN
BEGIN:VEVENT
DTSTART:20200307T150000Z
DTEND:20200307T160000Z
X-MICROSOFT-CDO-ALLDAYEVENT:FALSE
SUMMARY:Denison's TUTTI Festival: Electronic Music Concert
DESCRIPTION:The TUTTI festival presents a concert featuring Concert featuring electronic music.\n\nDenison's TUTTI Festival 2020 celebrates the arts through concerts\, workshops and exhibits and takes place March 3 through March 7\, 2020.
X-ALT-DESC;FMTTYPE=text/html:<p><span style="color:rgb(0\, 0\, 0)\; font-family:roboto\,sans-serif\; font-size:14px">The TUTTI festival presents a concert featuring </span><span style="color:rgb(0\, 0\, 0)\; font-family:arial\; font-size:11pt">Concert featuring electronic music.</span></p>\n\n<p>Denison&rsquo\;s TUTTI Festival 2020 celebrates the arts through concerts\, workshops and exhibits and takes place March 3 through March 7\, 2020.</p>\n
LOCATION:Denison University Thorsen Dance Studio in the Michael D. Eisner Center for the Performing Arts 240 West Broadway
UID:e.180.14340
SEQUENCE:3
DTSTAMP:20260422T155355Z
URL:https://business.granvilleoh.com/events/details/denison-s-tutti-festival-electronic-music-concert-14340
END:VEVENT

END:VCALENDAR
