BEGIN:VCALENDAR
VERSION:2.0
PRODID:-//ChamberMaster//Event Calendar 2.0//EN
METHOD:PUBLISH
X-PUBLISHED-TTL:P3D
REFRESH-INTERVAL:P3D
CALSCALE:GREGORIAN
BEGIN:VEVENT
DTSTART:20200305T010000Z
DTEND:20200305T020000Z
X-MICROSOFT-CDO-ALLDAYEVENT:FALSE
SUMMARY:Denison's TUTTI Festival: Musical Portraits
DESCRIPTION:The TUTTI festival presents Musical Portraits celebrating Denison Museum's "Say It Loud" exhibit. Join Daniel Roumain\, guest artists\, and students as they create music right before your eyes that is inspired by the exhibit. Roumain is collaborative composer\, performer\, educator\, and social entrepreneur. "About as omnivorous as a contemporary artist gets" (New York Times)\, he has worked with artists from Philip Glass to Bill T. Jones to Lady Gaga\; appeared on NPR\, American Idol\, and ESPN\; and has collaborated with the Sydney Opera House and the City of Burlington\, Vermont. Acclaimed as a violinist and activist\, Roumain's career spans more than two decades\, earning commissions by venerable artists and institutions worldwide.\n\nDenison's TUTTI Festival 2020 celebrates the arts through concerts\, workshops and exhibits and takes place March 3 through March 7\, 2020.
X-ALT-DESC;FMTTYPE=text/html:<p>The TUTTI festival presents Musical Portraits&nbsp\;celebrating&nbsp\;Denison Museum&rsquo\;s &ldquo\;Say It Loud&rdquo\; exhibit.&nbsp\;Join Daniel Roumain\, guest artists\, and students as they create music right before your eyes that is inspired by the exhibit. Roumain is collaborative composer\, performer\, educator\, and social entrepreneur. &ldquo\;About as omnivorous as a contemporary artist gets&rdquo\;&nbsp\;(New York Times)\, he has worked with artists from Philip Glass to Bill T. Jones to Lady Gaga\; appeared on NPR\, American Idol\, and ESPN\; and has collaborated with the Sydney Opera House and the City of Burlington\, Vermont. Acclaimed as a violinist and activist\, Roumain&rsquo\;s career spans more than two decades\, earning commissions by venerable artists and institutions worldwide.</p>\n\n<p>Denison&rsquo\;s TUTTI Festival 2020 celebrates the arts through concerts\, workshops and exhibits and takes place March 3 through March 7\, 2020.</p>\n
LOCATION:Denison University Denison Museum 240 West Broadway
UID:e.180.14329
SEQUENCE:3
DTSTAMP:20260422T142956Z
URL:https://business.granvilleoh.com/events/details/denison-s-tutti-festival-musical-portraits-14329
END:VEVENT

END:VCALENDAR
