BEGIN:VCALENDAR
VERSION:2.0
PRODID:-//ChamberMaster//Event Calendar 2.0//EN
METHOD:PUBLISH
X-PUBLISHED-TTL:P3D
REFRESH-INTERVAL:P3D
CALSCALE:GREGORIAN
BEGIN:VEVENT
DTSTART:20200306T180000Z
DTEND:20200306T193000Z
X-MICROSOFT-CDO-ALLDAYEVENT:FALSE
SUMMARY:Denison's TUTTI Festival: Percussionist Cameron Leach
DESCRIPTION:The TUTTI festival presents a concert with percussionist Cameron Leach. Leach is an American percussionist that is a bold performer recognized for his expressive virtuosity\, musical athleticism\, and daring interpretations. As a soloist and chamber musician\, Leach has concertized in the United States\, Canada\, Europe\, and Asia. Along with his active touring schedule\, Leach regularly performs with the Columbus Symphony Orchestra\, ProMusica Chamber Orchestra\, and the Chautauqua Symphony Orchestra.\n\nDenison's TUTTI Festival 2020 celebrates the arts through concerts\, workshops and exhibits and takes place March 3 through March 7\, 2020.
X-ALT-DESC;FMTTYPE=text/html:<p><span style="color:rgb(0\, 0\, 0)\; font-family:roboto\,sans-serif\; font-size:14px">The TUTTI festival presents a concert with percussionist Cameron Leach. Leach is an American percussionist that is a bold performer recognized for his expressive virtuosity\, musical athleticism\, and daring interpretations. As a soloist and chamber musician\, Leach has concertized in the United States\, Canada\, Europe\, and Asia. Along with his active touring schedule\, Leach regularly performs with the Columbus Symphony Orchestra\, ProMusica Chamber Orchestra\, and the Chautauqua Symphony Orchestra.</span></p>\n\n<p>Denison&rsquo\;s TUTTI Festival 2020 celebrates the arts through concerts\, workshops and exhibits and takes place March 3 through March 7\, 2020.</p>\n
LOCATION:Denison University Sharon Martin Hall of the Michael D. Eisner Center for the Performing Arts 240 West Broadway
UID:e.180.14333
SEQUENCE:3
DTSTAMP:20260422T142942Z
URL:https://business.granvilleoh.com/events/details/denison-s-tutti-festival-percussionist-cameron-leach-14333
END:VEVENT

END:VCALENDAR
